BEGIN:VCALENDAR
VERSION:2.0
PRODID:-//wp-events-plugin.com//7.2.3.1//EN
TZID:Europe/Berlin
X-WR-TIMEZONE:Europe/Berlin
BEGIN:VEVENT
UID:178@tsvkleinengstingen.de
DTSTART;TZID=Europe/Berlin;VALUE=DATE:20170512
DTEND;TZID=Europe/Berlin;VALUE=DATE:20170514
DTSTAMP:20170207T184359Z
URL:https://www.tsvkleinengstingen.de/events/rm-km-u18-aktive-reutlingen/
SUMMARY:RM / KM U18-Aktive Reutlingen
DESCRIPTION:LG Eningen / Reutlingen
CATEGORIES:Leichtathletik
END:VEVENT
BEGIN:VTIMEZONE
TZID:Europe/Berlin
X-LIC-LOCATION:Europe/Berlin
BEGIN:DAYLIGHT
DTSTART:20170326T030000
TZOFFSETFROM:+0100
TZOFFSETTO:+0200
TZNAME:CEST
END:DAYLIGHT
END:VTIMEZONE
END:VCALENDAR