BEGIN:VCALENDAR
VERSION:2.0
PRODID:-//wp-events-plugin.com//7.2.3.1//EN
TZID:Europe/Berlin
X-WR-TIMEZONE:Europe/Berlin
BEGIN:VEVENT
UID:591@tsvkleinengstingen.de
DTSTART;TZID=Europe/Berlin:20220120T193000
DTEND;TZID=Europe/Berlin:20220414T203000
DTSTAMP:20220114T213508Z
URL:https://www.tsvkleinengstingen.de/events/frauen-fitness-donnerstag-abe
 nd-3/
SUMMARY:Frauen-Fitness / DONNERSTAG ABEND
DESCRIPTION:Dieses Fitnessprogramm stellt ein ganzheitliches Körpertrainin
 g dar. Zu motivierender Musik werden nach einer kurzen Aufwärmphase insbe
 sondere die Hauptmuskelgruppen mit Hilfe von Geräten (z.B. Kleinhanteln\,
  Gummibändern etc.) gestärkt. Im Anschluss wird zur Erhaltung der Bewegl
 ichkeit ausreichend gedehnt. Neben der Kräftigung und Mobilisation der ei
 nzelnen Muskelketten\, wird die allgemeine Koordination deutlich geförder
 t.\n&nbsp\;\nWann: donnerstags 19:30 - 20:30 Uhr\nKursdauer: 20.01.2022 - 
 14.04.2022\n\nWo: Bloßenberghalle\nWer: für Frauen jeden Alters\nTeilneh
 meranzahl: max. 20\nKursgebühr: für Mitglieder 15\,00 / für Nichtmitgli
 eder 70\,00\nÜL: Ute Christner\n&nbsp\;\nBitte überweisen Sie die Kursge
 bühren bei Anmeldung (ohne weitere Aufforderung) unter Angabe der Kursbez
 eichnung an folgende Bankverbindung:\nIBAN: DE20 6039 0000 0732 9070 04\n&
 nbsp\;
CATEGORIES:Breitensport
LOCATION:Bloßenberghalle\, Bloßenbergstr.2\, Engstingen\, Deutschland
GEO:48.38367;9.30341999999996
X-APPLE-STRUCTURED-LOCATION;VALUE=URI;X-ADDRESS=Bloßenbergstr.2\, Engsting
 en\, Deutschland;X-APPLE-RADIUS=100;X-TITLE=Bloßenberghalle:geo:48.38367,
 9.30341999999996
END:VEVENT
BEGIN:VTIMEZONE
TZID:Europe/Berlin
X-LIC-LOCATION:Europe/Berlin
BEGIN:STANDARD
DTSTART:20211031T020000
TZOFFSETFROM:+0200
TZOFFSETTO:+0100
TZNAME:CET
END:STANDARD
BEGIN:DAYLIGHT
DTSTART:20220327T030000
TZOFFSETFROM:+0100
TZOFFSETTO:+0200
TZNAME:CEST
END:DAYLIGHT
END:VTIMEZONE
END:VCALENDAR