BEGIN:VCALENDAR
VERSION:2.0
PRODID:-//wp-events-plugin.com//7.2.3.1//EN
TZID:Europe/Berlin
X-WR-TIMEZONE:Europe/Berlin
BEGIN:VEVENT
UID:838@tsvkleinengstingen.de
DTSTART;TZID=Europe/Berlin;VALUE=DATE:20250719
DTEND;TZID=Europe/Berlin;VALUE=DATE:20250720
DTSTAMP:20250416T201120Z
URL:https://www.tsvkleinengstingen.de/events/beachvolleyball-turnier-fuer-
 alle/
SUMMARY:Beachvolleyball-Turnier (für alle)
DESCRIPTION:Weitere Infos folgen
END:VEVENT
BEGIN:VTIMEZONE
TZID:Europe/Berlin
X-LIC-LOCATION:Europe/Berlin
BEGIN:DAYLIGHT
DTSTART:20250330T030000
TZOFFSETFROM:+0100
TZOFFSETTO:+0200
TZNAME:CEST
END:DAYLIGHT
END:VTIMEZONE
END:VCALENDAR