BEGIN:VCALENDAR
VERSION:2.0
PRODID:-//wp-events-plugin.com//7.2.3.1//EN
TZID:Europe/Berlin
X-WR-TIMEZONE:Europe/Berlin
BEGIN:VEVENT
UID:261@tsvkleinengstingen.de
DTSTART;TZID=Europe/Berlin:20181201T083000
DTEND;TZID=Europe/Berlin:20181201T170000
DTSTAMP:20180116T091831Z
URL:https://www.tsvkleinengstingen.de/events/altpapiersammlung-39/
SUMMARY:Altpapiersammlung
DESCRIPTION:Monatliche Altpapiersammlung des FC Engstingen in Zusammenarbei
 t mit dem TV Großengstingen\nBitte beachten:\n\n	Mülltonnen dürfen von 
 den Vereinen nicht geleert werden\n	Kartonagen und Zeitungen bitte gebünd
 elt bereitstellen\n	Die Routen können je nach Wetter wechseln\, deshalb g
 rundsätzlich Papier ab 8.30 Uhr bereitstellen\n	Größere Mengen werden m
 it dem Müllauto abgeholt\, deshalb kann es vorkommen\, dass diese erst sp
 äter abgeholt werden.\n	Sollte ab 14.00 Uhr das Altpapier noch nicht abge
 holt sein\, bitte wenden Sie sich an die Verantwortlichen\, so können wir
  noch am selben Tag reagieren\n	Verantwortlicher FC Engstingen: Rolf Alber
  (Tel. 0173-3147915)\n	Verantworlicher TV Großengstingen: Peter Staneker
  \n
CATEGORIES:Allgemein
END:VEVENT
BEGIN:VTIMEZONE
TZID:Europe/Berlin
X-LIC-LOCATION:Europe/Berlin
BEGIN:STANDARD
DTSTART:20181028T020000
TZOFFSETFROM:+0200
TZOFFSETTO:+0100
TZNAME:CET
END:STANDARD
END:VTIMEZONE
END:VCALENDAR